BEGIN:VCALENDAR
VERSION:2.0
PRODID:-//海外旅行 名古屋 ジェイエスティ - ECPv6.15.20//NONSGML v1.0//EN
CALSCALE:GREGORIAN
METHOD:PUBLISH
X-WR-CALNAME:海外旅行 名古屋 ジェイエスティ
X-ORIGINAL-URL:https://jstgroup.com
X-WR-CALDESC:海外旅行 名古屋 ジェイエスティ のイベント
REFRESH-INTERVAL;VALUE=DURATION:PT1H
X-Robots-Tag:noindex
X-PUBLISHED-TTL:PT1H
BEGIN:VTIMEZONE
TZID:Asia/Tokyo
BEGIN:STANDARD
TZOFFSETFROM:+0900
TZOFFSETTO:+0900
TZNAME:JST
DTSTART:20240101T000000
END:STANDARD
END:VTIMEZONE
BEGIN:VEVENT
DTSTART;TZID=Asia/Tokyo:20250419T180000
DTEND;TZID=Asia/Tokyo:20250419T200000
DTSTAMP:20260421T061806
CREATED:20250309T030357Z
LAST-MODIFIED:20250427T073847Z
UID:57669-1745085600-1745092800@jstgroup.com
SUMMARY:【募集終了】JSTフットサル
DESCRIPTION:サッカー好きのJSTスタッフ企画のフットサル！ \n毎月お客様やそのご友人と一緒に楽しくフットサルをしています。 \n未経験でも大歓迎！ガチよりは楽しさ目的のフットサルです。 \n参加申込はこちら
URL:https://jstgroup.com/event/jstfutsal/
LOCATION:若宮フットサルコート（Bコート/受付に近いコート）
CATEGORIES:スポーツ
ATTACH;FMTTYPE=image/png:https://jstgroup.com/wp-content/uploads/2025/03/web-7.png
END:VEVENT
END:VCALENDAR