BEGIN:VCALENDAR
VERSION:2.0
PRODID:-//海外旅行 名古屋 ジェイエスティ - ECPv6.15.20//NONSGML v1.0//EN
CALSCALE:GREGORIAN
METHOD:PUBLISH
X-WR-CALNAME:海外旅行 名古屋 ジェイエスティ
X-ORIGINAL-URL:https://jstgroup.com
X-WR-CALDESC:海外旅行 名古屋 ジェイエスティ のイベント
REFRESH-INTERVAL;VALUE=DURATION:PT1H
X-Robots-Tag:noindex
X-PUBLISHED-TTL:PT1H
BEGIN:VTIMEZONE
TZID:Asia/Tokyo
BEGIN:STANDARD
TZOFFSETFROM:+0900
TZOFFSETTO:+0900
TZNAME:JST
DTSTART:20240101T000000
END:STANDARD
END:VTIMEZONE
BEGIN:VEVENT
DTSTART;TZID=Asia/Tokyo:20250617T183000
DTEND;TZID=Asia/Tokyo:20250617T203000
DTSTAMP:20260421T120917
CREATED:20250427T074724Z
LAST-MODIFIED:20250617T021008Z
UID:60430-1750185000-1750192200@jstgroup.com
SUMMARY:【参加者募集中】JST未来塾～価値観シェア会～
DESCRIPTION:月1開催のJST未来塾。 \n6月はバリューカードを用いて価値観シェア会を行います。\n一緒にカードで遊びながら、自分の価値観を見直す機会に、他者の価値観にふれる機会になります。 \n【日時】6月17日(火) 18:30-20:30\n【場所】JSTセミナールーム\n【定員】10名\n【会費】無料 \n参加申込はこちら
URL:https://jstgroup.com/event/jstmiraijuku/june
LOCATION:ジェイエスティ セミナールーム\, 中区栄3-15-27 いちご栄ビル4階\, 名古屋市\, 愛知県\, 460-0008\, Japan
CATEGORIES:交流
ATTACH;FMTTYPE=image/png:https://jstgroup.com/wp-content/uploads/2025/04/web-3.png
END:VEVENT
BEGIN:VEVENT
DTSTART;TZID=Asia/Tokyo:20250311T183000
DTEND;TZID=Asia/Tokyo:20250311T203000
DTSTAMP:20260421T120917
CREATED:20250309T021751Z
LAST-MODIFIED:20250427T073920Z
UID:57658-1741717800-1741725000@jstgroup.com
SUMMARY:【募集終了】JST未来塾
DESCRIPTION:今回のテーマは『未来への大相談会！』 \n将来について、就活についての不安・疑問に4年生&社会人がお答えします！！就活全般/業界・企業研究/就活軸/自己PR…などなんでも聞いてみましょう。 \nイベント詳細はこちら
URL:https://jstgroup.com/event/jstmiraijuku/
LOCATION:ジェイエスティ セミナールーム\, 中区栄3-15-27 いちご栄ビル4階\, 名古屋市\, 愛知県\, 460-0008\, Japan
CATEGORIES:交流,就活
ATTACH;FMTTYPE=image/png:https://jstgroup.com/wp-content/uploads/2025/03/web-6.png
END:VEVENT
END:VCALENDAR