BEGIN:VCALENDAR
VERSION:2.0
PRODID:-//海外旅行 名古屋 ジェイエスティ - ECPv6.15.20//NONSGML v1.0//EN
CALSCALE:GREGORIAN
METHOD:PUBLISH
X-WR-CALNAME:海外旅行 名古屋 ジェイエスティ
X-ORIGINAL-URL:https://jstgroup.com
X-WR-CALDESC:海外旅行 名古屋 ジェイエスティ のイベント
REFRESH-INTERVAL;VALUE=DURATION:PT1H
X-Robots-Tag:noindex
X-PUBLISHED-TTL:PT1H
BEGIN:VTIMEZONE
TZID:Asia/Tokyo
BEGIN:STANDARD
TZOFFSETFROM:+0900
TZOFFSETTO:+0900
TZNAME:JST
DTSTART:20240101T000000
END:STANDARD
END:VTIMEZONE
BEGIN:VEVENT
DTSTART;TZID=Asia/Tokyo:20251212T000000
DTEND;TZID=Asia/Tokyo:20270424T235900
DTSTAMP:20260424T173915
CREATED:20251212T014309Z
LAST-MODIFIED:20260424T015016Z
UID:71326-1765497600-1808611140@jstgroup.com
SUMMARY:学生アンバサダー募集
DESCRIPTION:JSTと一緒に、海外や留学、旅の良さを学生へ発信してくれる「JST学生アンバサダー」を募集します！\n旅行・海外が好きな方、JSTが好きな方、ぜひご応募ください！ \n 詳細＆申込はこちら
URL:https://jstgroup.com/event/studentambassador/
CATEGORIES:交流
ATTACH;FMTTYPE=image/jpeg:https://jstgroup.com/wp-content/uploads/2026/04/gakusei_page_top.jpg
ORGANIZER;CN="%E6%A0%AA%E5%BC%8F%E4%BC%9A%E7%A4%BE%E3%82%B8%E3%82%A7%E3%82%A4%E3%82%A8%E3%82%B9%E3%83%86%E3%82%A3":MAILTO:y.sugiura@jstgroup.com
END:VEVENT
BEGIN:VEVENT
DTSTART;TZID=Asia/Tokyo:20260417T180000
DTEND;TZID=Asia/Tokyo:20260417T193000
DTSTAMP:20260424T173915
CREATED:20250322T020230Z
LAST-MODIFIED:20260406T013937Z
UID:58478-1776448800-1776454200@jstgroup.com
SUMMARY:カナダ留学＆ワーホリ説明会
DESCRIPTION:当日は、カナダのバンクーバーにある語学学校【SELC】から校長先生のサミーさんが来日し、学校の魅力やコース内容について直接お話しいただけます。\nSELCには、ワーホリ向けの特別プランや、即戦力になれるバリスタコースなど、ユニークで実践的なプログラムが充実しています！\nこれからカナダ方面への留学、ワーホリを計画される方には、直接現地学校関係者に現地での生活をはじめ、学校の状況、ワーホリの就職先など、様々な話を聞いたり、質問をしたり、絶好の機会です。是非この機会をお見逃しなく。説明会は少人数制で実施しますので、参加希望の方はお早めにご予約ください。 \n詳細はこちら \n申込はこちら
URL:https://jstgroup.com/event/canada/
LOCATION:ジェイエスティ セミナールーム\, 中区栄3-15-27 いちご栄ビル4階\, 名古屋市\, 愛知県\, 460-0008\, Japan
CATEGORIES:留学
ATTACH;FMTTYPE=image/jpeg:https://jstgroup.com/wp-content/uploads/2025/03/canada_wh_seminar.jpg
END:VEVENT
BEGIN:VEVENT
DTSTART;TZID=Asia/Tokyo:20260523T090000
DTEND;TZID=Asia/Tokyo:20260524T180000
DTSTAMP:20260424T173915
CREATED:20250322T022010Z
LAST-MODIFIED:20260409T013859Z
UID:58504-1779526800-1779645600@jstgroup.com
SUMMARY:【募集】2026JST Nagoya Hawai’i Festivalインターンシップ
DESCRIPTION:JST名古屋ハワイフェスティバルは2010年にオアシス21会場からスタートした中京テレビクリエイション主催のイベントで、JSTが冠スポンサーを務めています。今ではエディオン久屋広場にも広がり、毎年30万人のお客様にご来場いただいています。地元のフラダンサーのステージ、ハワイからのゲストステージ、ショッピング、フードなどハワイの魅力が詰まった東海地区最大級のハワイアンイベントです。 \nこのイベントを一緒に盛り上げてくれる仲間を募集しています。ぜひご応募ください！ \n 詳細＆申込はこちら
URL:https://jstgroup.com/event/hawaiifestival/
ATTACH;FMTTYPE=image/png:https://jstgroup.com/wp-content/uploads/2025/03/hawaiifes_gakusei.png
END:VEVENT
END:VCALENDAR